BEGIN:VCALENDAR
VERSION:2.0
PRODID:-//dhtmlXScheduler//NONSGML v2.2//EN
X-WR-CALNAME:Wydarzenia
BEGIN:VEVENT
DTSTART:20241001T130000
DTEND:20260422T001407
UID:0
SUMMARY:Inauguracja roku akademickiego 2024/2025
END:VEVENT
BEGIN:VEVENT
DTSTART:20241016T170000
DTEND:20260422T001407
UID:1
SUMMARY:Spotkanie z Zbigniewem Romaniukiem i Januszem Poryckim - wydawcami pamiętnika Władysława Jabłonowskiego
END:VEVENT
BEGIN:VEVENT
DTSTART:20250121T000000
DTEND:20260422T001407
UID:2
SUMMARY:FAKE NEWS jako narzędzie dezinformacji od starożytności do współczesności”
END:VEVENT
BEGIN:VEVENT
DTSTART:20250326T090000
DTEND:20260422T001407
UID:3
SUMMARY:Dzień Otwarty Wydziału Historii 2025
END:VEVENT
BEGIN:VEVENT
DTSTART:20250404T100000
DTEND:20260422T001407
UID:4
SUMMARY:Dzień Azjatycki 2025
END:VEVENT
BEGIN:VEVENT
DTSTART:20250508T170000
DTEND:20260422T001407
UID:5
SUMMARY:Spotkanie z autorami książki „Nowa gra w Chińczyka”
END:VEVENT
BEGIN:VEVENT
DTSTART:20250609T180000
DTEND:20260422T001407
UID:6
SUMMARY:Wyjazdowy pokaz spektaklu Żołnierz samochwał w Pogorzałkach
END:VEVENT
BEGIN:VEVENT
DTSTART:20250610T183000
DTEND:20260422T001407
UID:7
SUMMARY:Spacer historyczny – Brazylka – zapomniana dzielnica Białegostoku
END:VEVENT
BEGIN:VEVENT
DTSTART:20250913T000000
DTEND:20260422T001407
UID:8
SUMMARY:XVI Spotkanie Członków Zespołu i Współpracowników Ośrodka Badań Historii Kobiet Instytutu Studiów Kobiecych
END:VEVENT
BEGIN:VEVENT
DTSTART:20250930T160000
DTEND:20260422T001407
UID:9
SUMMARY:Zapraszamy na spacer „Białystok studencki, Białystok historyczny”. Poznaj miasto, w którym będziesz studiować!
END:VEVENT
BEGIN:VEVENT
DTSTART:20250930T160000
DTEND:20260422T001407
UID:10
SUMMARY:Tu byli, tu żyli: Żydzi w naszej pamięci
END:VEVENT
BEGIN:VEVENT
DTSTART:20251001T130000
DTEND:20260422T001407
UID:11
SUMMARY:INAUGURACJA ROKU AKADEMICKIEGO 2025/2026
END:VEVENT
BEGIN:VEVENT
DTSTART:20251023T093000
DTEND:20260422T001407
UID:12
SUMMARY: Spędź dzień w Adamczysze - sarmacka uczta nauki i zabawy!
END:VEVENT
BEGIN:VEVENT
DTSTART:20251105T173000
DTEND:20260422T001407
UID:13
SUMMARY:Zaduszki historyków
END:VEVENT
BEGIN:VEVENT
DTSTART:20251119T000000
DTEND:20260422T001407
UID:14
SUMMARY:Forum Naukowe ChSA: Wolność w perspektywie chrześcijańskiej
END:VEVENT
BEGIN:VEVENT
DTSTART:20251218T160000
DTEND:20260422T001407
UID:15
SUMMARY:WARSZTATY - OLIMPIADA HISTORYCZNA 2025
END:VEVENT
BEGIN:VEVENT
DTSTART:20260109T170000
DTEND:20260422T001407
UID:16
SUMMARY:Spotkanie promocyjne publikacji poświęconej pamięci prof. Józefa Maroszka
END:VEVENT
BEGIN:VEVENT
DTSTART:20260303T150000
DTEND:20260422T001407
UID:17
SUMMARY:Erasmus Week na UwB
END:VEVENT
BEGIN:VEVENT
DTSTART:20260324T113000
DTEND:20260422T001407
UID:18
SUMMARY:Krzyż przy drodze – cena odwagi. Jakubowscy oraz inni Sprawiedliwi wśród Narodów Świata z Białostocczyzny
END:VEVENT
BEGIN:VEVENT
DTSTART:20260420T170000
DTEND:20260422T001407
UID:19
SUMMARY:Zebranie naukowe Katedry Historii Struktur Demograficznych, Gospodarczych i Religijnych
END:VEVENT
END:VCALENDAR