BEGIN:VCALENDAR
VERSION:2.0
PRODID:-//dhtmlXScheduler//NONSGML v2.2//EN
X-WR-CALNAME:Wydarzenia
BEGIN:VEVENT
DTSTART:20241128T120000
DTEND:20241129T153000
UID:1
SUMMARY:Konferencja naukowa: Od Hezjoda do Parandowskiego: transmisja mitu i mitografia w kulturze Europy. W 100. rocznicę wydania Mitologii J. Parandowskiego
END:VEVENT
END:VCALENDAR