BEGIN:VCALENDAR
VERSION:2.0
PRODID:-//dhtmlXScheduler//NONSGML v2.2//EN
X-WR-CALNAME:Wydarzenia
BEGIN:VEVENT
DTSTART:20230920T000000
DTEND:20230922T000000
UID:1
SUMMARY:Ogólnopolska konferencja naukowa „Kobiety - kultura - prawo - życie publiczne”
END:VEVENT
END:VCALENDAR