BEGIN:VCALENDAR
VERSION:2.0
PRODID:-//dhtmlXScheduler//NONSGML v2.2//EN
X-WR-CALNAME:Wydarzenia
BEGIN:VEVENT
DTSTART:20250609T090000
DTEND:20250609T184500
UID:1
SUMMARY:Ogólnopolska Konferencja Naukowa "Odzyskanie Globalnego Wschodu"
END:VEVENT
END:VCALENDAR