BEGIN:VCALENDAR
VERSION:2.0
PRODID:-//dhtmlXScheduler//NONSGML v2.2//EN
X-WR-CALNAME:Wydarzenia
BEGIN:VEVENT
DTSTART:20251211T131500
DTEND:20251211T141500
UID:1
SUMMARY:Program Legii Akademickiej  dla studentów i absolwentów uczelni wyższych
END:VEVENT
END:VCALENDAR